BEGIN:VCALENDAR
VERSION:2.0
PRODID:-//Auditore - ECPv6.15.20//NONSGML v1.0//EN
CALSCALE:GREGORIAN
METHOD:PUBLISH
X-WR-CALNAME:Auditore
X-ORIGINAL-URL:https://agarci.profreed.com
X-WR-CALDESC:Events for Auditore
REFRESH-INTERVAL;VALUE=DURATION:PT1H
X-Robots-Tag:noindex
X-PUBLISHED-TTL:PT1H
BEGIN:VTIMEZONE
TZID:America/Los_Angeles
BEGIN:DAYLIGHT
TZOFFSETFROM:-0800
TZOFFSETTO:-0700
TZNAME:PDT
DTSTART:20250309T100000
END:DAYLIGHT
BEGIN:STANDARD
TZOFFSETFROM:-0700
TZOFFSETTO:-0800
TZNAME:PST
DTSTART:20251102T090000
END:STANDARD
BEGIN:DAYLIGHT
TZOFFSETFROM:-0800
TZOFFSETTO:-0700
TZNAME:PDT
DTSTART:20260308T100000
END:DAYLIGHT
BEGIN:STANDARD
TZOFFSETFROM:-0700
TZOFFSETTO:-0800
TZNAME:PST
DTSTART:20261101T090000
END:STANDARD
BEGIN:DAYLIGHT
TZOFFSETFROM:-0800
TZOFFSETTO:-0700
TZNAME:PDT
DTSTART:20270314T100000
END:DAYLIGHT
BEGIN:STANDARD
TZOFFSETFROM:-0700
TZOFFSETTO:-0800
TZNAME:PST
DTSTART:20271107T090000
END:STANDARD
END:VTIMEZONE
BEGIN:VEVENT
DTSTART;TZID=America/Los_Angeles:20260805T120000
DTEND;TZID=America/Los_Angeles:20260805T170000
DTSTAMP:20260419T082713
CREATED:20260418T213600Z
LAST-MODIFIED:20260418T213600Z
UID:131-1785931200-1785949200@agarci.profreed.com
SUMMARY:BACK TO SCHOOL INITIATIVE
DESCRIPTION:As a brand built around productivity and real-life balance\, Auditore is committed to supporting students during one of the most important times of the year. \nA portion of proceeds will go toward providing essential school supplies to students in need\, helping them start the year prepared\, confident\, and ready to succeed.
URL:https://agarci.profreed.com/event/back-to-school-initiative/
END:VEVENT
BEGIN:VEVENT
DTSTART;TZID=America/Los_Angeles:20261010T160000
DTEND;TZID=America/Los_Angeles:20261010T173000
DTSTAMP:20260419T082713
CREATED:20260418T213744Z
LAST-MODIFIED:20260418T213744Z
UID:133-1791648000-1791653400@agarci.profreed.com
SUMMARY:CAREER & FUTURE READINESS INITIATIVE
DESCRIPTION:Auditore is built to help people stay focused and move forward—not just daily\, but long term. \nThis initiative supports individuals preparing for their future by providing access to career resources\, tools\, and opportunities. A portion of proceeds will go toward helping people build skills\, stay organized\, and take the next step toward their goals.
URL:https://agarci.profreed.com/event/career-future-readiness-initiative/
END:VEVENT
BEGIN:VEVENT
DTSTART;VALUE=DATE:20261220
DTEND;VALUE=DATE:20261221
DTSTAMP:20260419T082713
CREATED:20260418T213210Z
LAST-MODIFIED:20260418T213210Z
UID:129-1797724800-1797811199@agarci.profreed.com
SUMMARY:AUDITORE HOLIDAY TOY DRIVE
DESCRIPTION:his holiday season\, Auditore is giving back. \nThrough our Christmas initiative\, we aim to help bring joy to children and families by supporting toy donations and holiday giving efforts. A portion of proceeds during the season will go toward helping provide gifts to those who may not otherwise receive them. \nThe goal is simple: to make the holidays feel a little brighter. \nAuditore was built around real life\, and real life means supporting others when it matters most. By being part of Auditore\, you’re also helping create moments of happiness during the holiday season.
URL:https://agarci.profreed.com/event/auditore-holiday-toy-drive/
END:VEVENT
END:VCALENDAR